BEGIN:VCALENDAR
VERSION:2.0
PRODID:KKTIX
CALSCALE:GREGORIAN
METHOD:PUBLISH
BEGIN:VTIMEZONE
TZID:Asia/Taipei
END:VTIMEZONE
BEGIN:VEVENT
DTSTAMP:20260420T235521Z
UID:2b1b80aa-d303-4cf4-8dc5-6d187400e8a7
DTSTART:20260528T120000Z
DTEND:20260528T120000Z
CLASS:PUBLIC
DESCRIPTION:https://romanticoffice.kktix.cc/events/sunnydayvooid
LOCATION: (台北市文山區羅斯福路四段200號B1) The Wall Live Hous
 e
SUMMARY:SUNNY DAY SERVICE X VOOID live in Taipei
END:VEVENT
END:VCALENDAR
